BEGIN:VCALENDAR
VERSION:2.0
PRODID:-//Full Lucha Libre - ECPv6.13.2.1//NONSGML v1.0//EN
CALSCALE:GREGORIAN
METHOD:PUBLISH
X-WR-CALNAME:Full Lucha Libre
X-ORIGINAL-URL:https://fullluchalibre.cl
X-WR-CALDESC:Eventos para Full Lucha Libre
REFRESH-INTERVAL;VALUE=DURATION:PT1H
X-Robots-Tag:noindex
X-PUBLISHED-TTL:PT1H
BEGIN:VTIMEZONE
TZID:UTC
BEGIN:STANDARD
TZOFFSETFROM:+0000
TZOFFSETTO:+0000
TZNAME:UTC
DTSTART:20260101T000000
END:STANDARD
END:VTIMEZONE
BEGIN:VEVENT
DTSTART;TZID=UTC:20260328T180000
DTEND;TZID=UTC:20260328T210000
DTSTAMP:20260420T225412
CREATED:20260302T201558Z
LAST-MODIFIED:20260327T135034Z
UID:10175-1774720800-1774731600@fullluchalibre.cl
SUMMARY:Antofamania - Full Antofagasta
DESCRIPTION:  🔥 OUT OF CONTROL 🔥El evento donde TODO se sale de control 💥Prepárate para una tarde llena de adrenalina\, emoción y tremendas luchas aseguradas 🤼‍♂️🔥 📅 Viernes 2 de mayo🕕 18:00 hrs📍 Estadio Green Cross – Antofagasta👨‍👩‍👧‍👦 Evento apto para toda la familia ⚡ Cuando suene la campana\, nada será igual… rivalidades al límite\, caos en el ring y combates que prometen quedar en la memoria del público. 🎟️ Compra tus entradas ahora en:👉 www.fullluchalibre.cl #OutOfControl #FullLuchaLibre #LuchaLibre #Antofagasta #EventoFamiliar #LuchaSinControl #GreenCross 								\n				\n					\n				\n		\n					\n				\n				\n																														\n				\n					\n				\n		\n					\n		\n		\n		\n				\n				\n					\n		\n							\n											\n						Entrada SuperVIP Sabado						\n					\n											\n							Compra tus entradas						\n									\n			\n			\n																	\n						25.000					\n				\n				\n				\n									Preventa -20% 							\n\n							\n											\n							\n																									\n										Entrada en sector de preferencial									\n																\n						\n											\n							\n																									\n										Acceso Anticipado 									\n																\n						\n											\n							\n																									\n										Fotos de Entrada de Luchadores personalizadas									\n																\n						\n											\n							\n																									\n										-Meet and Greet empezando el show									\n																\n						\n									\n			\n							\n											\n							Comprar						\n					\n											\n							Compra por MercadoPago						\n									\n					\n\n					\n				\n					Preventa				\n			\n							\n				\n				\n		\n				\n				\n					\n		\n							\n											\n						Entrada VIP Sabado						\n					\n											\n							Compra tus entradas						\n									\n			\n			\n																	\n						20.000					\n				\n				\n				\n									Preventa -20% 							\n\n							\n											\n							\n																									\n										Primeras 2 filas cerca del Ring									\n																\n						\n											\n							\n																									\n										Acceso Anticipado 									\n																\n						\n											\n							\n																									\n										Meet and Greet empezando el show									\n																\n						\n									\n			\n							\n											\n							Comprar						\n					\n											\n							Compra por MercadoPago						\n									\n					\n\n					\n				\n					Preventa				\n			\n							\n				\n				\n		\n				\n				\n					\n		\n							\n											\n						Entrada Silver Sabado						\n					\n											\n							Compra tus entradas						\n									\n			\n			\n																	\n						13.000					\n				\n				\n				\n									Preventa-20% 							\n\n							\n											\n							\n																									\n										Entrada Sector sillas desde la 5ta fila en adelante									\n																\n						\n									\n			\n							\n											\n							Comprar						\n					\n											\n							Compra por MercadoPago						\n									\n					\n\n					\n				\n					Preventa				\n			\n							\n				\n				\n		\n				\n				\n					\n		\n							\n											\n						Entrada General Sabado						\n					\n											\n							Compra tus entradas						\n									\n			\n			\n																	\n						10.000					\n				\n				\n				\n									valor normal							\n\n							\n											\n							\n																									\n										Entrada en sector general									\n																\n						\n									\n			\n							\n											\n							Comprar						\n					\n											\n							Compra por MercadoPago						\n									\n					\n\n					\n				\n					Popular
URL:https://fullluchalibre.cl/eventos/antofamania/
LOCATION:Estadio Green Cross\, Orella 547\, antofagasta\, Chile
ATTACH;FMTTYPE=image/jpeg:https://fullluchalibre.cl/wp-content/uploads/2026/03/antofamania.jpg
END:VEVENT
BEGIN:VEVENT
DTSTART;TZID=UTC:20260412T160000
DTEND;TZID=UTC:20260412T180000
DTSTAMP:20260420T225412
CREATED:20260324T154658Z
LAST-MODIFIED:20260407T085432Z
UID:10511-1776009600-1776016800@fullluchalibre.cl
SUMMARY:Guerra de Pascua - Full La Serena
DESCRIPTION:  🔥 OUT OF CONTROL 🔥El evento donde TODO se sale de control 💥Prepárate para una tarde llena de adrenalina\, emoción y tremendas luchas aseguradas 🤼‍♂️🔥 📅 Viernes 2 de mayo🕕 18:00 hrs📍 Estadio Green Cross – Antofagasta👨‍👩‍👧‍👦 Evento apto para toda la familia ⚡ Cuando suene la campana\, nada será igual… rivalidades al límite\, caos en el ring y combates que prometen quedar en la memoria del público. 🎟️ Compra tus entradas ahora en:👉 www.fullluchalibre.cl #OutOfControl #FullLuchaLibre #LuchaLibre #Antofagasta #EventoFamiliar #LuchaSinControl #GreenCross 								\n				\n					\n				\n		\n					\n				\n				\n																														\n				\n					\n				\n		\n					\n		\n		\n		\n				\n				\n					\n		\n							\n											\n						Entrada SuperVIP Sabado						\n					\n											\n							Compra tus entradas						\n									\n			\n			\n																	\n						25.000					\n				\n				\n				\n									Preventa -20% 							\n\n							\n											\n							\n																									\n										Entrada en sector de preferencial									\n																\n						\n											\n							\n																									\n										Acceso Anticipado 									\n																\n						\n											\n							\n																									\n										Fotos de Entrada de Luchadores personalizadas									\n																\n						\n											\n							\n																									\n										-Meet and Greet empezando el show									\n																\n						\n									\n			\n							\n											\n							Comprar						\n					\n											\n							Compra por MercadoPago						\n									\n					\n\n					\n				\n					Preventa				\n			\n							\n				\n				\n		\n				\n				\n					\n		\n							\n											\n						Entrada VIP Sabado						\n					\n											\n							Compra tus entradas						\n									\n			\n			\n																	\n						20.000					\n				\n				\n				\n									Preventa -20% 							\n\n							\n											\n							\n																									\n										Primeras 2 filas cerca del Ring									\n																\n						\n											\n							\n																									\n										Acceso Anticipado 									\n																\n						\n											\n							\n																									\n										Meet and Greet empezando el show									\n																\n						\n									\n			\n							\n											\n							Comprar						\n					\n											\n							Compra por MercadoPago						\n									\n					\n\n					\n				\n					Preventa				\n			\n							\n				\n				\n		\n				\n				\n					\n		\n							\n											\n						Entrada Silver Sabado						\n					\n											\n							Compra tus entradas						\n									\n			\n			\n																	\n						13.000					\n				\n				\n				\n									Preventa-20% 							\n\n							\n											\n							\n																									\n										Entrada Sector sillas desde la 5ta fila en adelante									\n																\n						\n									\n			\n							\n											\n							Comprar						\n					\n											\n							Compra por MercadoPago						\n									\n					\n\n					\n				\n					Preventa				\n			\n							\n				\n				\n		\n				\n				\n					\n		\n							\n											\n						Entrada General Sabado						\n					\n											\n							Compra tus entradas						\n									\n			\n			\n																	\n						10.000					\n				\n				\n				\n									valor normal							\n\n							\n											\n							\n																									\n										Entrada en sector general									\n																\n						\n									\n			\n							\n											\n							Comprar						\n					\n											\n							Compra por MercadoPago						\n									\n					\n\n					\n				\n					Popular
URL:https://fullluchalibre.cl/eventos/guerra-de-pascua-full-la-serena/
LOCATION:12lunas\, Av. José Manuel Balmaceda 824\, La Serena\, Chile
ATTACH;FMTTYPE=image/jpeg:https://fullluchalibre.cl/wp-content/uploads/2024/10/WhatsApp-Image-2026-04-01-at-2.39.18-PM.jpeg
END:VEVENT
BEGIN:VEVENT
DTSTART;TZID=UTC:20260502T180000
DTEND;TZID=UTC:20260502T203000
DTSTAMP:20260420T225412
CREATED:20260330T163101Z
LAST-MODIFIED:20260407T090056Z
UID:10707-1777744800-1777753800@fullluchalibre.cl
SUMMARY:Out of Control | Full Lucha Libre Antofagasta
DESCRIPTION:  🔥 OUT OF CONTROL 🔥El evento donde TODO se sale de control 💥Prepárate para una tarde llena de adrenalina\, emoción y tremendas luchas aseguradas 🤼‍♂️🔥 📅 Viernes 2 de mayo🕕 18:00 hrs📍 Estadio Green Cross – Antofagasta👨‍👩‍👧‍👦 Evento apto para toda la familia ⚡ Cuando suene la campana\, nada será igual… rivalidades al límite\, caos en el ring y combates que prometen quedar en la memoria del público. 🎟️ Compra tus entradas ahora en:👉 www.fullluchalibre.cl #OutOfControl #FullLuchaLibre #LuchaLibre #Antofagasta #EventoFamiliar #LuchaSinControl #GreenCross 								\n				\n					\n				\n		\n					\n				\n				\n																														\n				\n					\n				\n		\n					\n		\n		\n		\n				\n				\n					\n		\n							\n											\n						Entrada SuperVIP Sabado						\n					\n											\n							Compra tus entradas						\n									\n			\n			\n																	\n						25.000					\n				\n				\n				\n									Preventa -20% 							\n\n							\n											\n							\n																									\n										Entrada en sector de preferencial									\n																\n						\n											\n							\n																									\n										Acceso Anticipado 									\n																\n						\n											\n							\n																									\n										Fotos de Entrada de Luchadores personalizadas									\n																\n						\n											\n							\n																									\n										-Meet and Greet empezando el show									\n																\n						\n									\n			\n							\n											\n							Comprar						\n					\n											\n							Compra por MercadoPago						\n									\n					\n\n					\n				\n					Preventa				\n			\n							\n				\n				\n		\n				\n				\n					\n		\n							\n											\n						Entrada VIP Sabado						\n					\n											\n							Compra tus entradas						\n									\n			\n			\n																	\n						20.000					\n				\n				\n				\n									Preventa -20% 							\n\n							\n											\n							\n																									\n										Primeras 2 filas cerca del Ring									\n																\n						\n											\n							\n																									\n										Acceso Anticipado 									\n																\n						\n											\n							\n																									\n										Meet and Greet empezando el show									\n																\n						\n									\n			\n							\n											\n							Comprar						\n					\n											\n							Compra por MercadoPago						\n									\n					\n\n					\n				\n					Preventa				\n			\n							\n				\n				\n		\n				\n				\n					\n		\n							\n											\n						Entrada Silver Sabado						\n					\n											\n							Compra tus entradas						\n									\n			\n			\n																	\n						13.000					\n				\n				\n				\n									Preventa-20% 							\n\n							\n											\n							\n																									\n										Entrada Sector sillas desde la 5ta fila en adelante									\n																\n						\n									\n			\n							\n											\n							Comprar						\n					\n											\n							Compra por MercadoPago						\n									\n					\n\n					\n				\n					Preventa				\n			\n							\n				\n				\n		\n				\n				\n					\n		\n							\n											\n						Entrada General Sabado						\n					\n											\n							Compra tus entradas						\n									\n			\n			\n																	\n						10.000					\n				\n				\n				\n									valor normal							\n\n							\n											\n							\n																									\n										Entrada en sector general									\n																\n						\n									\n			\n							\n											\n							Comprar						\n					\n											\n							Compra por MercadoPago						\n									\n					\n\n					\n				\n					Popular
URL:https://fullluchalibre.cl/eventos/out-of-control-full-lucha-libre-antofagasta/
LOCATION:Estadio Green Cross\, Orella 547\, antofagasta\, Chile
END:VEVENT
END:VCALENDAR